BEGIN:VCALENDAR
VERSION:2.0
PRODID:-//SVP Wahlkreis Sursee //NONSGML Events //EN
CALSCALE:GREGORIAN
X-WR-CALNAME:SVP Wahlkreis Sursee
BEGIN:VEVENT
CREATED:20210511T133731Z
UID:19983
DTEND:20210610T223000
DTSTART:20210610T190000
DTSTAMP:20260420T115024Z
LOCATION:Event Chalet Galfri \, Industriestrasse 16\, 6215 Beromünster
DESCRIPTION:&nbsp; Ausführung je nach COVID Vorgabe Bund &amp; Kanton
SUMMARY:Mitgliederversammlung / GV des Wahlkreises Sursee
ORGANIZER:Wahlkreis Sursee
URL;VALUE=URI:https://www.svp-wahlkreissursee.ch/termine/mitgliederversammlung-gv-des-wahlkreises-sursee/
TRANSP:OPAQUE
END:VEVENT
END:VCALENDAR
