BEGIN:VCALENDAR
VERSION:2.0
PRODID:-//SVP Wahlkreis Sursee //NONSGML Events //EN
CALSCALE:GREGORIAN
X-WR-CALNAME:SVP Wahlkreis Sursee
BEGIN:VEVENT
CREATED:20221006T062612Z
UID:27285
DTEND:20231026T210000
DTSTART:20231026T160000
DTSTAMP:20260420T133908Z
LOCATION:Aula SH Zentrum
DESCRIPTION:
SUMMARY:Einwohnerratssitzung Horw
ORGANIZER:
URL;VALUE=URI:https://www.svp-wahlkreissursee.ch/termine/einwohnerratssitzung-horw-34-2/
TRANSP:OPAQUE
END:VEVENT
END:VCALENDAR
