BEGIN:VCALENDAR
VERSION:2.0
PRODID:-//SVP Wahlkreis Sursee //NONSGML Events //EN
CALSCALE:GREGORIAN
X-WR-CALNAME:SVP Wahlkreis Sursee
BEGIN:VEVENT
CREATED:20221006T062612Z
UID:27286
DTEND:20231026T210000
DTSTART:20231026T163000
DTSTAMP:20260420T133520Z
LOCATION:
DESCRIPTION:
SUMMARY:GL-Sitzung 2023/10
ORGANIZER:
URL;VALUE=URI:https://www.svp-wahlkreissursee.ch/termine/gl-sitzung-2023-10-2/
TRANSP:OPAQUE
END:VEVENT
END:VCALENDAR
