BEGIN:VCALENDAR
VERSION:2.0
PRODID:-//SVP Wahlkreis Sursee //NONSGML Events //EN
CALSCALE:GREGORIAN
X-WR-CALNAME:SVP Wahlkreis Sursee
BEGIN:VEVENT
CREATED:20221006T062612Z
UID:27287
DTEND:20231026T220000
DTSTART:20231026T193000
DTSTAMP:20260420T133742Z
LOCATION:Vogelsang
DESCRIPTION:
SUMMARY:Sitzung Parteileitung 2023/05
ORGANIZER:
URL;VALUE=URI:https://www.svp-wahlkreissursee.ch/termine/sitzung-parteileitung-2023-05-2/
TRANSP:OPAQUE
END:VEVENT
END:VCALENDAR
