BEGIN:VCALENDAR
VERSION:2.0
PRODID:-//SVP Wahlkreis Sursee //NONSGML Events //EN
CALSCALE:GREGORIAN
X-WR-CALNAME:SVP Wahlkreis Sursee
BEGIN:VEVENT
CREATED:20221006T043144Z
UID:27472
DTEND:20231026T220000
DTSTART:20231026T180000
DTSTAMP:20260420T133523Z
LOCATION:Stadt Luzern
DESCRIPTION:
SUMMARY:Grossstadtratssitzung Luzern
ORGANIZER:
URL;VALUE=URI:https://www.svp-wahlkreissursee.ch/termine/grossstadtratssitzung-luzern-46/
TRANSP:OPAQUE
END:VEVENT
END:VCALENDAR
