BEGIN:VCALENDAR
VERSION:2.0
PRODID:-//SVP Wahlkreis Sursee //NONSGML Events //EN
CALSCALE:GREGORIAN
X-WR-CALNAME:SVP Wahlkreis Sursee
BEGIN:VEVENT
CREATED:20240919T052110Z
UID:28872
DTEND:20250209T000000
DTSTART:20250209T000000
DTSTAMP:20260422T045512Z
LOCATION:
DESCRIPTION:
SUMMARY:Eidg und Kant. Abstimmung
ORGANIZER:
URL;VALUE=URI:https://www.svp-wahlkreissursee.ch/termine/eidg-und-kant-abstimmung-14/
TRANSP:OPAQUE
END:VEVENT
END:VCALENDAR
